BEGIN:VCALENDAR
VERSION:2.0
PRODID:-//eventon.com NONSGML v1.0//EN
BEGIN:VEVENT
UID:69ea2328e9f74
DTSTAMP:20260423T214824
DTSTART:20211005T020000Z
DTEND:20211005T040000Z
LOCATION:SEAMEO Secretariat YouTube Channel 
SUMMARY:SEAMEO-UNESCO-TTF-IITE Experts Forum and SEAMEO WTD e-Festival: Celebrating World Teachers’ Day 2021
DESCRIPTION: World Teachers' Day is celebrated around the world on the 5th of October. It is also known by some as International Teachers' Day. The event was established in 1994\,  and it commemorates the signing of the 1966 UNESCO/ILO Recommendation concerning the status of teachers. One and a half years into the[..]
END:VEVENT
END:VCALENDAR