BEGIN:VCALENDAR
VERSION:2.0
PRODID:-//eventon.com NONSGML v1.0//EN
BEGIN:VEVENT
UID:69eaf5f0b4bcb
DTSTAMP:20260424T124744
DTSTART:20211118T160000Z
DTEND:20220121T155900Z
LOCATION:Coursebank PH 
SUMMARY:TEACH ON: Keeping the Passion Alive (2021-4)
DESCRIPTION: One of SEAMEO INNOTECH’s Massive Open Online Courses (MOOCs)\,  “TEACH ON: Keeping the Passion Alive\, ” will be offered again for free starting 19 November 2021. The course\,  which aims to inspire\,  rekindle\,  and sustain teacher’s passion for teaching\,  is open to all teachers worldwide.
END:VEVENT
END:VCALENDAR