BEGIN:VCALENDAR
VERSION:2.0
PRODID:-//eventon.com NONSGML v1.0//EN
BEGIN:VEVENT
UID:69e78382007ec
DTSTAMP:20260421T220242
DTSTART:20220707T010000Z
DTEND:20220707T070000Z
LOCATION:SEAMEO Secretariat Mom Luang Pin Malakul Centenary Bldg\,  920 Sukhumvit Road
SUMMARY:SEAMEO KM Learning and Sharing Forum
DESCRIPTION: The First SEAMEO Training Workshop on Knowledge Management (KM) as a part of the initiatives under the SEAMEO Strategic Plan 2011-2020 was organized by SEAMEO SEARCA in collaboration with SEAMEO Secretariat on 24-26 January 2012 in Los Baños\,  Philippines.  The workshop aimed to enable SEAMEO Centers to arrive at a[..]
END:VEVENT
END:VCALENDAR