BEGIN:VCALENDAR
VERSION:2.0
PRODID:-//eventon.com NONSGML v1.0//EN
BEGIN:VEVENT
UID:69e5d9621aeea
DTSTAMP:20260420T154434
DTSTART:20220828T160000Z
DTEND:20221213T155900Z
LOCATION:iFLEX4 
SUMMARY:SUPEReXCELS - El Salvador Division
DESCRIPTION: Supervision Excellence in School Leadership for Southeast Asia or SUPEReXCELS is designed for supervisors and school heads. It addresses the need to develop and strengthen their capacity for developmental\,  differentiated\,  and clinical supervision. The course is based on the Competency Framework for Southeast Asian School Heads that SEAMEO INNOTECH developed[..]
END:VEVENT
END:VCALENDAR