BEGIN:VCALENDAR
VERSION:2.0
PRODID:-//eventon.com NONSGML v1.0//EN
BEGIN:VEVENT
UID:69e6c2c28ef2e
DTSTAMP:20260421T082018
DTSTART:20220731T160000Z
DTEND:20221023T155900Z
LOCATION:iFLEX 2 
SUMMARY:GURO21 Course 1 - Mati Division
DESCRIPTION: Gearing Up Responsible and Outstanding Teachers in Southeast Asia for the 21st Century or GURO21 is a menu of flexible learning courses that aim to address the teachers’ needs in relation to the technological advances and changing educational trends of the 21st century. At the end of this course\,  you[..]
END:VEVENT
END:VCALENDAR